BEGIN:VCALENDAR
VERSION:2.0
CALSCALE:GREGORIAN
PRODID:adamgibbons/ics
METHOD:PUBLISH
X-PUBLISHED-TTL:PT1H
BEGIN:VEVENT
UID:226@termine.linxxnet.de
SUMMARY:Küche für Alle (KüfA) auf dem Lindenauer Markt
DTSTAMP:20260423T100024Z
DTSTART:20260427T160000Z
DTEND:20260427T180000Z
URL:https://termine.linxxnet.de/event/kuche-fur-alle-kufa-auf-dem-lindenaue
	r-markt-100
GEO:51.3378;12.3335
LOCATION:Lindenauer Markt - Lindenauer Markt\, Altlindenau\, Altwest\, Leip
	zig\, Sachsen\, 04177\, Deutschland
STATUS:CONFIRMED
CATEGORIES:
END:VEVENT
END:VCALENDAR
