BEGIN:VCALENDAR
VERSION:2.0
CALSCALE:GREGORIAN
PRODID:adamgibbons/ics
METHOD:PUBLISH
X-PUBLISHED-TTL:PT1H
BEGIN:VEVENT
UID:224@termine.linxxnet.de
SUMMARY:Küche für Alle (KüfA) auf dem Lindenauer Markt
DTSTAMP:20260421T104104Z
DTSTART:20260420T160000Z
DTEND:20260420T180000Z
DESCRIPTION:Die Linke Leipzig steht jetzt immer Montags auf dem Lindenauer 
	Markt und\nverteilt kostenlos veganes Essen von 18:00-20:00 Uhr. Damit wol
	len wir nicht nur\nEssen verteilen\, sondern auch die Nachbarschaft zusamm
	enbringen. Essen gegen die\nSpaltung.
URL:https://termine.linxxnet.de/event/kuche-fur-alle-kufa-auf-dem-lindenaue
	r-markt-99
LOCATION:Lindenauer Markt - Lindenauer Markt\, Altlindenau\, Altwest\, Leip
	zig\, Sachsen\, 04177\, Deutschland
STATUS:CONFIRMED
CATEGORIES:
X-ALT-DESC;FMTTYPE=text/html:<p>Die Linke Leipzig steht jetzt immer Montags
	 auf dem Lindenauer Markt und verteilt kostenlos veganes Essen von 18:00-2
	0:00 Uhr. Damit wollen wir nicht nur Essen verteilen, sondern auch die Nac
	hbarschaft zusammenbringen. Essen gegen die Spaltung.</p>
END:VEVENT
BEGIN:VEVENT
UID:226@termine.linxxnet.de
SUMMARY:Küche für Alle (KüfA) auf dem Lindenauer Markt
DTSTAMP:20260421T104104Z
DTSTART:20260427T160000Z
DTEND:20260427T180000Z
DESCRIPTION:Die Linke Leipzig steht jetzt immer Montags auf dem Lindenauer 
	Markt und\nverteilt kostenlos veganes Essen von 18:00-20:00 Uhr. Damit wol
	len wir nicht nur\nEssen verteilen\, sondern auch die Nachbarschaft zusamm
	enbringen. Essen gegen die\nSpaltung.
URL:https://termine.linxxnet.de/event/kuche-fur-alle-kufa-auf-dem-lindenaue
	r-markt-100
LOCATION:Lindenauer Markt - Lindenauer Markt\, Altlindenau\, Altwest\, Leip
	zig\, Sachsen\, 04177\, Deutschland
STATUS:CONFIRMED
CATEGORIES:
X-ALT-DESC;FMTTYPE=text/html:<p>Die Linke Leipzig steht jetzt immer Montags
	 auf dem Lindenauer Markt und verteilt kostenlos veganes Essen von 18:00-2
	0:00 Uhr. Damit wollen wir nicht nur Essen verteilen, sondern auch die Nac
	hbarschaft zusammenbringen. Essen gegen die Spaltung.</p>
END:VEVENT
BEGIN:VEVENT
UID:223@termine.linxxnet.de
SUMMARY:Between the Lines: Muscheln am Strand von Gaza - Erinnerungen an ei
	n zerstörtes Land
DTSTAMP:20260421T104104Z
DTSTART:20260507T170000Z
DESCRIPTION:Muscheln am Strand von Gaza: Erinnerungen an ein zerstörtes Lan
	d\n\nEine Geschichte von Verlust\, Mut und der ungebrochenen Hoffnung auf 
	Frieden im\nNahen Osten\nLesung und Diskussion mit Hamza Howidy\nVeranstal
	tungsreihe BETWEEN THE LINES (Part 3)\n\nHamza Abu Howidy erzählt uns vom 
	Aufwachsen im Gaza der 2000er-Jahre\, von seiner\nFamilie\, besonders sein
	em Vater\, der ihm beim Muschelsammeln die großen\nLektionen des Lebens be
	igebracht hat\, aber auch von den blutigen Kämpfen\nzwischen Fatah und Ham
	as\, direkt vor seiner Haustür\, und wie sehr das Leben in\nGaza von Terro
	r geprägt war.\n\nJahre später protestiert er gegen die Hamas und wird fes
	tgenommen\, gefoltert und\nmuss fliehen. Heute zählt er zu den wichtigsten
	 politischen Stimmen aus der\npalästinensischen Exilgemeinde\, dabei lässt
	 er sich weder von pro-israelischer\nnoch pro-palästinensischer Seite vere
	innahmen.\n\nEin sehr persönliches Buch\, das Hoffnung und Plädoyer zuglei
	ch für eine\ndemokratische und friedliche Lösung des Nahostkonflikts ist.\
	n\nDie Veranstaltung findet in englischer Sprache statt. Eine Übersetzung 
	wird\ngewährleistet.
URL:https://termine.linxxnet.de/event/between-the-lines-muscheln-am-strand-
	von-gaza-erinnerungen-an-ein-zerstortes-land
LOCATION:Galerie KUB - 18\, Kantstraße\, Südvorstadt\, Süd\, Leipzig\, Sach
	sen\, 04275\, Deutschland
STATUS:CONFIRMED
CATEGORIES:between the lines
X-ALT-DESC;FMTTYPE=text/html:<p><strong>Muscheln am Strand von Gaza: Erinne
	rungen an ein zerstörtes Land</strong></p><p>Eine Geschichte von Verlust, 
	Mut und der ungebrochenen Hoffnung auf Frieden im Nahen Osten<br>Lesung un
	d Diskussion mit <strong>Hamza Howidy<br></strong>Veranstaltungsreihe <str
	ong>BETWEEN THE LINES</strong> (Part 3)</p><p>Hamza Abu Howidy erzählt uns
	 vom Aufwachsen im Gaza der 2000er-Jahre, von seiner Familie, besonders se
	inem Vater, der ihm beim Muschelsammeln die großen Lektionen des Lebens be
	igebracht hat, aber auch von den blutigen Kämpfen zwischen Fatah und Hamas
	, direkt vor seiner Haustür, und wie sehr das Leben in Gaza von Terror gep
	rägt war.</p><p>Jahre später protestiert er gegen die Hamas und wird festg
	enommen, gefoltert und muss fliehen. Heute zählt er zu den wichtigsten pol
	itischen Stimmen aus der palästinensischen Exilgemeinde, dabei lässt er si
	ch weder von pro-israelischer noch pro-palästinensischer Seite vereinnahme
	n.</p><p>Ein sehr persönliches Buch, das Hoffnung und Plädoyer zugleich fü
	r eine demokratische und friedliche Lösung des Nahostkonflikts ist.</p><p>
	<strong>Die Veranstaltung findet in englischer Sprache statt. Eine Überset
	zung wird gewährleistet.</strong></p>
END:VEVENT
BEGIN:VEVENT
UID:227@termine.linxxnet.de
SUMMARY:Rechte Raumnahme in Leipzig
DTSTAMP:20260421T104104Z
DTSTART:20260610T170000Z
DTEND:20260610T200000Z
URL:https://termine.linxxnet.de/event/rechte-raumnahme-in-leipzig
LOCATION:linXXnet - linXXnet\, 15\, Brandstraße\, Connewitz\, Süd\, Leipzig
	\, Sachsen\, 04277\, Deutschland
STATUS:CONFIRMED
CATEGORIES:
END:VEVENT
BEGIN:VEVENT
UID:225@termine.linxxnet.de
SUMMARY:Unser Wald im Klimastress: Von Auswirkungen klimatischer Extreme au
	f sächsische Forste  und von den Erfordernissen einer Folgenbegrenzung
DTSTAMP:20260421T104104Z
DTSTART:20260611T170000Z
DTEND:20260611T190000Z
DESCRIPTION:In Sachsens „Wäldern“ dominieren derzeit Fichten und Kiefern. D
	ie aus ihnen\naufgebauten Forstökosysteme sind häufig durch Struktur- und 
	Artenarmut\ngekennzeichnet. Unter Berücksichtigung einer standörtlichen Di
	fferenzierung ist\ndie Fähigkeit dieser Forstökosysteme\, Umwelteinwirkung
	en zu widerstehen oder\nsich an veränderte Umweltbedingungen anzupassen\, 
	als gering einzuschätzen.\nAufgrund der 2018 eingetreten\, neuen Phase des
	 Klimawandels\, der sog. Heißzeit\,\nist ein „großflächiges Absterben der 
	Baumschicht“ (2019 „Wetter trifft Klima“\,\nLfULG) eingetreten.\n\nEs ist 
	künftig verstärkt davon auszugehen\, dass die Intensität des Klimawandels\
	ndas Anpassungspotential (sächsischer) Forste deutlich übersteigt und – wi
	e\ngegenwärtig schon zu sehen – zu großflächigen\, komplex ausgelösten\nSc
	hadwirkungen führt. Neben diesen Phänomen hinterließen Sturmtiefs sowie ei
	n\nTornado auch in sächsischen Forsten Spuren der Verwüstung.\n\nNaturnahe
	 Wälder und Forste mit einem größeren Anpassungspotenzial an steigende\nTe
	mperaturen und ein verändertes Niederschlagsregime nehmen durch einen\nsys
	temischen\, nachhaltigen Forstumbau des Staatsbetriebes Sachsenforst ein\n
	Viertel der „Wald“fläche Sachsens ein.\n\nAuwälder\, wie der Leipziger Auw
	ald\, bilden eine natürliche Pflanzengesellschaft\nentlang von Bächen oder
	 Flüssen. In Europa ist deren Bestand z. B. durch\nBeweidung stark rückläu
	fig. Aus ökologischer und klimatologischer Sicht besitzen\ndiese Pflanzeng
	esellschaften einen außergewöhnlichen Wert.\n\nReferentin:\nKerstin Richte
	r\, Projektorganisatorin & Bildungsreferentin\nKerstin Richter arbeitet se
	it 19 Jahren als Bildungsreferentin im Projekt\n„Sachsen im Klimawandel“. 
	Sie freut sich über Ihre Teilnahme an der\nVeranstaltung und auf einen ged
	anklichen Austausch mit Ihnen.\n\nwww.sachsen-im-klimawandel.de [http://ww
	w.sachsen-im-klimawandel.de]
URL:https://termine.linxxnet.de/event/unser-wald-im-klimastress-von-auswirk
	ungen-klimatischer-extreme-auf-sachsische-forste-und-von-den-erfordernisse
	n-einer-folgenbegrenzung
LOCATION:INTERIM - Demmeringstraße 32
STATUS:CONFIRMED
CATEGORIES:
X-ALT-DESC;FMTTYPE=text/html:<p>In Sachsens „Wäldern“ dominieren derzeit Fi
	chten und Kiefern. Die aus ihnen aufgebauten Forstökosysteme sind häufig d
	urch Struktur- und Artenarmut gekennzeichnet. Unter Berücksichtigung einer
	 standörtlichen Differenzierung ist die Fähigkeit dieser Forstökosysteme, 
	Umwelteinwirkungen zu widerstehen oder sich an veränderte Umweltbedingunge
	n anzupassen, als gering einzuschätzen. Aufgrund der 2018 eingetreten, neu
	en Phase des Klimawandels, der sog. Heißzeit, ist ein „großflächiges Abste
	rben der Baumschicht“ (2019 „Wetter trifft Klima“, LfULG) eingetreten.</p>
	<p>Es ist künftig verstärkt davon auszugehen, dass die Intensität des Klim
	awandels das Anpassungspotential (sächsischer) Forste deutlich übersteigt 
	und – wie gegenwärtig schon zu sehen – zu großflächigen, komplex ausgelöst
	en Schadwirkungen führt. Neben diesen Phänomen hinterließen Sturmtiefs sow
	ie ein Tornado auch in sächsischen Forsten Spuren der Verwüstung.</p><p>Na
	turnahe Wälder und Forste mit einem größeren Anpassungspotenzial an steige
	nde Temperaturen und ein verändertes Niederschlagsregime nehmen durch eine
	n systemischen, nachhaltigen Forstumbau des Staatsbetriebes Sachsenforst e
	in Viertel der „Wald“fläche Sachsens ein.</p><p>Auwälder, wie der Leipzige
	r Auwald, bilden eine natürliche Pflanzengesellschaft entlang von Bächen o
	der Flüssen. In Europa ist deren Bestand z. B. durch Beweidung stark rückl
	äufig. Aus ökologischer und klimatologischer Sicht besitzen diese Pflanzen
	gesellschaften einen außergewöhnlichen Wert.</p><p>Referentin:<br>Kerstin 
	Richter, Projektorganisatorin &amp; Bildungsreferentin<br>Kerstin Richter 
	arbeitet seit 19 Jahren als Bildungsreferentin im Projekt „Sachsen im Klim
	awandel“. Sie freut sich über Ihre Teilnahme an der Veranstaltung und auf 
	einen gedanklichen Austausch mit Ihnen.</p><p><a href="http://www.sachsen-
	im-klimawandel.de" target="_blank"><strong>www.sachsen-im-klimawandel.de</
	strong></a></p>
END:VEVENT
BEGIN:VEVENT
UID:228@termine.linxxnet.de
SUMMARY:Rechte Raumnahme in Leipzig mit Focus auf den Leipziger Westen
DTSTAMP:20260421T104104Z
DTSTART:20260624T170000Z
DTEND:20260624T200000Z
URL:https://termine.linxxnet.de/event/rechte-raumnahme-in-leipzig-mit-focus
	-auf-den-leipziger-westen
LOCATION:INTERIM - Demmeringstraße 32
STATUS:CONFIRMED
CATEGORIES:
END:VEVENT
END:VCALENDAR
